BEGIN:VCALENDAR
VERSION:2.0
PRODID:icalendar-ruby
CALSCALE:GREGORIAN
METHOD:PUBLISH
BEGIN:VEVENT
DTSTAMP:20260422T161003Z
UID:16-334417@tonkawaclc.com
DTSTART:20260913T150000Z
DTEND:20260913T160000Z
CLASS:PUBLIC
CREATED:20260422T093700
DESCRIPTION:Sunday Gathering
LAST-MODIFIED:20260422T093700
LOCATION:205 Thunderbird Road Tonkawa\, OK 74653
SUMMARY:Sunday Gathering
URL;VALUE=URI:https://www.tonkawaclc.com/events/sunday-gathering/2026-09-13
ATTACH;FILENAME=PXL_20230528_152513252.PORTRAIT.ORIGINAL~2.jpg;FMTTYPE=imag
 e/jpeg:https://dq5pwpg1q8ru0.cloudfront.net/2023/12/04/09/28/02/6e561b8c-f
 3a8-42aa-8fbd-b31f29fc723e/PXL_20230528_152513252.PORTRAIT.ORIGINAL~2.jpg
END:VEVENT
END:VCALENDAR
